BEGIN:VCALENDAR
VERSION:2.0
PRODID:-//example.org//iCal 4.0.3//CS
METHOD:PUBLISH
BEGIN:VEVENT
DTSTAMP:20260423T200000
DTSTART;TZID=Europe/Prague:20260423T190000
DTEND;TZID=Europe/Prague:20260423T210000
SUMMARY;LANGUAGE=cs:Ty Syčáci | Budoár Staré Dámy | Voicebabes
DESCRIPTION:
CLASS:PUBLIC
END:VEVENT
END:VCALENDAR