BEGIN:VCALENDAR
VERSION:2.0
PRODID:-//example.org//iCal 4.0.3//CS
METHOD:PUBLISH
BEGIN:VEVENT
DTSTAMP:20260507T200000
DTSTART;TZID=Europe/Prague:20260507T190000
DTEND;TZID=Europe/Prague:20260507T210000
SUMMARY;LANGUAGE=cs:LAOKOON | Ludvík Šavel
DESCRIPTION:
CLASS:PUBLIC
END:VEVENT
END:VCALENDAR