BEGIN:VCALENDAR
VERSION:2.0
PRODID:-//example.org//iCal 4.0.3//CS
METHOD:PUBLISH
BEGIN:VEVENT
DTSTAMP:20260429T193000
DTSTART;TZID=Europe/Prague:20260429T183000
DTEND;TZID=Europe/Prague:20260429T203000
SUMMARY;LANGUAGE=cs:Božské Soaré | Šimanský Niesner
DESCRIPTION:
CLASS:PUBLIC
END:VEVENT
END:VCALENDAR